BEGIN:VCALENDAR
VERSION:2.0
PRODID:-//wp-events-plugin.com//7.2.3.1//EN
TZID:Europe/Zurich
X-WR-TIMEZONE:Europe/Zurich
BEGIN:VEVENT
UID:3@speed-skater-zug.ch
DTSTART;TZID=Europe/Zurich:20230513T090000
DTEND;TZID=Europe/Zurich:20230513T110000
DTSTAMP:20230329T210210Z
URL:https://www.speed-skater-zug.ch/index.php/Veranstaltung/inline-kurs-13
 -mai/
SUMMARY:Inline Kurs 13. Mai
DESCRIPTION:Bitte bezahlen sie den Kurs vor Ort.\n\nDanke
ATTACH;FMTTYPE=image/jpeg:https://www.speed-skater-zug.ch/wp-content/uploa
 ds/2023/03/Kurs_2.jpg
CATEGORIES:Inline Kurs
LOCATION:Arenaplatz\, General-Guisan-Strasse\,\, Zug\, 6300\, Schweiz
GEO:47.176376;8.505872
X-APPLE-STRUCTURED-LOCATION;VALUE=URI;X-ADDRESS=General-Guisan-Strasse\,\, 
 Zug\, 6300\, Schweiz;X-APPLE-RADIUS=100;X-TITLE=Arenaplatz:geo:47.176376,8
 .505872
END:VEVENT
BEGIN:VTIMEZONE
TZID:Europe/Zurich
X-LIC-LOCATION:Europe/Zurich
BEGIN:DAYLIGHT
DTSTART:20230326T030000
TZOFFSETFROM:+0100
TZOFFSETTO:+0200
TZNAME:CEST
END:DAYLIGHT
END:VTIMEZONE
END:VCALENDAR